BEGIN:VCALENDAR
VERSION:2.0
PRODID:-//Kalamazoo First Presbyterian Church - ECPv6.15.20//NONSGML v1.0//EN
CALSCALE:GREGORIAN
METHOD:PUBLISH
X-WR-CALNAME:Kalamazoo First Presbyterian Church
X-ORIGINAL-URL:https://fpckzoo.org
X-WR-CALDESC:Events for Kalamazoo First Presbyterian Church
REFRESH-INTERVAL;VALUE=DURATION:PT1H
X-Robots-Tag:noindex
X-PUBLISHED-TTL:PT1H
BEGIN:VTIMEZONE
TZID:America/Detroit
BEGIN:DAYLIGHT
TZOFFSETFROM:-0500
TZOFFSETTO:-0400
TZNAME:EDT
DTSTART:20240310T070000
END:DAYLIGHT
BEGIN:STANDARD
TZOFFSETFROM:-0400
TZOFFSETTO:-0500
TZNAME:EST
DTSTART:20241103T060000
END:STANDARD
BEGIN:DAYLIGHT
TZOFFSETFROM:-0500
TZOFFSETTO:-0400
TZNAME:EDT
DTSTART:20250309T070000
END:DAYLIGHT
BEGIN:STANDARD
TZOFFSETFROM:-0400
TZOFFSETTO:-0500
TZNAME:EST
DTSTART:20251102T060000
END:STANDARD
BEGIN:DAYLIGHT
TZOFFSETFROM:-0500
TZOFFSETTO:-0400
TZNAME:EDT
DTSTART:20260308T070000
END:DAYLIGHT
BEGIN:STANDARD
TZOFFSETFROM:-0400
TZOFFSETTO:-0500
TZNAME:EST
DTSTART:20261101T060000
END:STANDARD
END:VTIMEZONE
BEGIN:VEVENT
DTSTART;TZID=America/Detroit:20251012T160000
DTEND;TZID=America/Detroit:20251012T170000
DTSTAMP:20260419T205835
CREATED:20250903T190048Z
LAST-MODIFIED:20250903T190320Z
UID:7056-1760284800-1760288400@fpckzoo.org
SUMMARY:Halloween Organ Spooktacular
DESCRIPTION:Costumes are encouraged for this free concert in the Sanctuary. \nOctober 12 at 4 PM
URL:https://fpckzoo.org/event/halloween-organ-spooktacular-2/
LOCATION:Sanctuary\, 321 W South Street\, Kalamazoo\, MI\, 49007\, United States
ATTACH;FMTTYPE=image/jpeg:https://fpckzoo.org/wp-content/uploads/2022/01/Organ-e1756926032862.jpg
END:VEVENT
BEGIN:VEVENT
DTSTART;TZID=America/Detroit:20250921T150000
DTEND;TZID=America/Detroit:20250921T160000
DTSTAMP:20260419T205835
CREATED:20250903T185659Z
LAST-MODIFIED:20250903T185659Z
UID:7053-1758466800-1758470400@fpckzoo.org
SUMMARY:Autumn in Season
DESCRIPTION:Join us for a free concert featuring our very own organist\, Autumn! \nSunday\, September 21 at 3 PM
URL:https://fpckzoo.org/event/autumn-in-season/
LOCATION:Sanctuary\, 321 W South Street\, Kalamazoo\, MI\, 49007\, United States
ATTACH;FMTTYPE=image/jpeg:https://fpckzoo.org/wp-content/uploads/2025/09/Organ-view-e1756925805213.jpg
END:VEVENT
BEGIN:VEVENT
DTSTART;TZID=America/Detroit:20250920T130000
DTEND;TZID=America/Detroit:20250920T140000
DTSTAMP:20260419T205835
CREATED:20250917T180120Z
LAST-MODIFIED:20250917T180120Z
UID:7115-1758373200-1758376800@fpckzoo.org
SUMMARY:A Memorial for Marilyn Boal
DESCRIPTION:In loving honor and memory of Marilyn Boal\, there will be a service in the Sanctuary at 1 PM on September 20. \nVisitation will begin at 11 am and take place at the church. \nInternment will happen at Riverside Cemetery immediately following the service.
URL:https://fpckzoo.org/event/a-memorial-for-marilyn-boal/
LOCATION:FPC Kzoo
ATTACH;FMTTYPE=image/jpeg:https://fpckzoo.org/wp-content/uploads/2025/04/lilies-graphic.jpg
END:VEVENT
BEGIN:VEVENT
DTSTART;TZID=America/Detroit:20250914T110000
DTEND;TZID=America/Detroit:20250914T130000
DTSTAMP:20260419T205835
CREATED:20250820T154615Z
LAST-MODIFIED:20250820T154615Z
UID:7030-1757847600-1757854800@fpckzoo.org
SUMMARY:New Members Exploration Class
DESCRIPTION:Are you curious about what it means to become a member of our church? Join us for an informal and welcoming New Members Exploration Class right after worship on Sunday\, September 14 in Room 314.\nThis is a great opportunity to: \n\nAsk questions about our church and beliefs\nExplore your personal faith journey\nLearn how to get involved in our church community\n\nHors d’oeuvres will be provided\, and we’ll wrap up by 1:00 p.m.\n📧 RSVP to Pastor Chrissy at Chrissyw@fpckzoo.org and let us know about any dietary needs so we can plan accordingly.\nWe look forward to welcoming you!
URL:https://fpckzoo.org/event/new-members-exploration-class/
LOCATION:Room 314
ORGANIZER;CN="Chrissy Westbury":MAILTO:chrissyw@fpckzoo.org
END:VEVENT
BEGIN:VEVENT
DTSTART;TZID=America/Detroit:20250914T100000
DTEND;TZID=America/Detroit:20250914T110000
DTSTAMP:20260419T205835
CREATED:20250910T142236Z
LAST-MODIFIED:20250910T142236Z
UID:7077-1757844000-1757847600@fpckzoo.org
SUMMARY:Sunday School Kick-off
DESCRIPTION:
URL:https://fpckzoo.org/event/sunday-school-kick-off/
LOCATION:Sanctuary\, 321 W South Street\, Kalamazoo\, MI\, 49007\, United States
CATEGORIES:Child & Youth
ORGANIZER;CN="Meredith Alspach":MAILTO:mereditha@fpckzoo.org
END:VEVENT
BEGIN:VEVENT
DTSTART;TZID=America/Detroit:20250910T140000
DTEND;TZID=America/Detroit:20250910T150000
DTSTAMP:20260419T205835
CREATED:20250820T155716Z
LAST-MODIFIED:20250820T155716Z
UID:7035-1757512800-1757516400@fpckzoo.org
SUMMARY:Presbyterian Women - Martha Circle
DESCRIPTION:The PW Purpose statement includes “to nurture our faith through prayer and Bible study” and “to build an inclusive\, caring community of women that strengthens the PC(USA) and witnesses to the promise of God’s kingdom”. \nYou are invited to be a part of the long history of Presbyterian women as we learn and grow together with Martha Circle. Martha Circle meets on the second Wednesday of each month at 2:00p.m. in the Gathering Place. \nWe are beginning the Bible study “Finding Resilience\, Joy\, and Our Identity in Jesus Christ”. On September 10th\, in Lesson 1\, we will learn about new scholarship regarding “Mary Magdalene\, The Tower” and how she is a model of resilience. We begin our gatherings by sharing our joys and concerns\, and planning any upcoming activities. We share Bible study and hospitality as Christian women in our time and place. \nFor more information contact Elaine Johns at emjohns513@aol.com. We look forward to welcoming you!
URL:https://fpckzoo.org/event/presbyterian-women-martha-circle/
LOCATION:The Gathering Place
ORGANIZER;CN="Elaine Johns":MAILTO:emjohns513@aol.com
END:VEVENT
BEGIN:VEVENT
DTSTART;TZID=America/Detroit:20250824T110000
DTEND;TZID=America/Detroit:20250824T120000
DTSTAMP:20260419T205835
CREATED:20250820T153945Z
LAST-MODIFIED:20250820T153945Z
UID:7026-1756033200-1756036800@fpckzoo.org
SUMMARY:Adult Faith Formation Task Force
DESCRIPTION:This meeting is to plan out the Adult Faith Formation calendar for this fall. \nDo you lead a small group or adult education program? Are you\ninterested in helping to organize or lead adult education opportunities at FPC? Whether it’s a\none-time class on a topic\, a book study\, or a longer-term small group\, the possibilities are endless.
URL:https://fpckzoo.org/event/adult-faith-formation-task-force/
LOCATION:Room 306
ORGANIZER;CN="Chrissy Westbury":MAILTO:chrissyw@fpckzoo.org
END:VEVENT
BEGIN:VEVENT
DTSTART;TZID=America/Detroit:20250824T110000
DTEND;TZID=America/Detroit:20250824T120000
DTSTAMP:20260419T205835
CREATED:20250820T153618Z
LAST-MODIFIED:20250820T153618Z
UID:7022-1756033200-1756036800@fpckzoo.org
SUMMARY:Children's Ministry Volunteer Meeting
DESCRIPTION:This informational meeting and training is for anyone who may enjoy working with children in Sunday School or the nursery. \nVolunteers are the very heart of our children’s programs and we need you! \nIf you want to help but cannot make it today\, please contact mereditha@fpckzoo.org \n 
URL:https://fpckzoo.org/event/childrens-ministry-volunteer-meeting/
LOCATION:Room 304
ORGANIZER;CN="Meredith Alspach":MAILTO:mereditha@fpckzoo.org
END:VEVENT
BEGIN:VEVENT
DTSTART;TZID=America/Detroit:20250819T123000
DTEND;TZID=America/Detroit:20250819T133000
DTSTAMP:20260419T205835
CREATED:20250807T191033Z
LAST-MODIFIED:20250812T160357Z
UID:6998-1755606600-1755610200@fpckzoo.org
SUMMARY:Memorial- Jeanene Lewis
DESCRIPTION:Visitation begins at 11 am. Service begins at 12:30 pm. \nThere will be a reception in the church dining room at 1:30 pm
URL:https://fpckzoo.org/event/memorial-jeanene-lewis/
LOCATION:Sanctuary\, 321 W South Street\, Kalamazoo\, MI\, 49007\, United States
ATTACH;FMTTYPE=image/jpeg:https://fpckzoo.org/wp-content/uploads/2025/04/lilies-graphic.jpg
END:VEVENT
BEGIN:VEVENT
DTSTART;TZID=America/Detroit:20250814T110000
DTEND;TZID=America/Detroit:20250814T120000
DTSTAMP:20260419T205835
CREATED:20250624T172053Z
LAST-MODIFIED:20250807T194029Z
UID:6818-1755169200-1755172800@fpckzoo.org
SUMMARY:Diane Heckler Memorial
DESCRIPTION:In loving memory of Diane Heckler\, a memorial service will be held in the Sanctuary.
URL:https://fpckzoo.org/event/memorial/
ATTACH;FMTTYPE=image/png:https://fpckzoo.org/wp-content/uploads/2025/04/Screenshot-2025-04-21-134738.png
ORGANIZER;CN="Chrissy Westbury":MAILTO:chrissyw@fpckzoo.org
END:VEVENT
BEGIN:VEVENT
DTSTART;TZID=America/Detroit:20250813T140000
DTEND;TZID=America/Detroit:20250813T150000
DTSTAMP:20260419T205835
CREATED:20250805T165257Z
LAST-MODIFIED:20250807T193945Z
UID:6984-1755093600-1755097200@fpckzoo.org
SUMMARY:Memorial - Robert Poel
DESCRIPTION:In loving honor and memory of Bob Poel\, a memorial will take place in the Sanctuary at 2 PM. \nDirectly after\, there will be a reception in the Gathering Place.
URL:https://fpckzoo.org/event/memorial-robert-poel/
LOCATION:Sanctuary\, 321 W South Street\, Kalamazoo\, MI\, 49007\, United States
ATTACH;FMTTYPE=image/png:https://fpckzoo.org/wp-content/uploads/2025/04/Screenshot-2025-04-21-134738.png
END:VEVENT
BEGIN:VEVENT
DTSTART;TZID=America/Detroit:20250811T183000
DTEND;TZID=America/Detroit:20250811T193000
DTSTAMP:20260419T205835
CREATED:20250709T180105Z
LAST-MODIFIED:20250730T131630Z
UID:6895-1754937000-1754940600@fpckzoo.org
SUMMARY:Chair Yoga
DESCRIPTION:Open to all experience levels. Bring a water bottle and wear comfortable clothes/shoes! Mondays at 6:30. For questions or more information call or text Ana @ 269- 352-1733
URL:https://fpckzoo.org/event/chair-yoga/
LOCATION:The Gathering Place
END:VEVENT
BEGIN:VEVENT
DTSTART;TZID=America/Detroit:20250810T120000
DTEND;TZID=America/Detroit:20250810T123000
DTSTAMP:20260419T205835
CREATED:20250730T131001Z
LAST-MODIFIED:20250730T131001Z
UID:6961-1754827200-1754829000@fpckzoo.org
SUMMARY:Elyn Sue Knappen Memorial
DESCRIPTION:In loving honor and memory of Elyn Sue Knappen\, a memorial will be held in the East Transept \nSunday\, August 10 at Noon
URL:https://fpckzoo.org/event/elyn-sue-knappen-memorial/
ATTACH;FMTTYPE=image/jpeg:https://fpckzoo.org/wp-content/uploads/2025/04/lilies-graphic.jpg
END:VEVENT
BEGIN:VEVENT
DTSTART;VALUE=DATE:20250802
DTEND;VALUE=DATE:20250803
DTSTAMP:20260419T205835
CREATED:20250723T135102Z
LAST-MODIFIED:20250723T135102Z
UID:6932-1754092800-1754179199@fpckzoo.org
SUMMARY:In Honor of Paul Hartwigsen
DESCRIPTION:Visitation at Noon\nMemorial at 1 pm \nat Joldersma and Klein (917 S Burdick St\, Kalamazoo\, MI 49001)
URL:https://fpckzoo.org/event/in-honor-of-paul-hartwigsen/
ATTACH;FMTTYPE=image/png:https://fpckzoo.org/wp-content/uploads/2025/04/Screenshot-2025-04-21-134738.png
END:VEVENT
BEGIN:VEVENT
DTSTART;TZID=America/Detroit:20250801T180000
DTEND;TZID=America/Detroit:20250801T190000
DTSTAMP:20260419T205835
CREATED:20250723T134702Z
LAST-MODIFIED:20250723T134835Z
UID:6927-1754071200-1754074800@fpckzoo.org
SUMMARY:Memorial in honor of Lucy Hammond
DESCRIPTION:At the Pine Island Chapel\, 8882 W Q Avenue\, Mattawan\, MI 49071 \n 
URL:https://fpckzoo.org/event/memorial-in-honor-of-lucy-hammond/
LOCATION:Pine Island Chapel\, 8882 W Q Ave.\, Mattawan\, MI\, 49071\, United States
ATTACH;FMTTYPE=image/png:https://fpckzoo.org/wp-content/uploads/2025/07/climbing-lily-of-the-valley-e1773771237980.png
END:VEVENT
BEGIN:VEVENT
DTSTART;TZID=America/Detroit:20250709T080000
DTEND;TZID=America/Detroit:20250730T170000
DTSTAMP:20260419T205835
CREATED:20250709T145651Z
LAST-MODIFIED:20250709T150920Z
UID:6890-1752048000-1753894800@fpckzoo.org
SUMMARY:Youth Mission 2025 - Food and Supply Sign-up
DESCRIPTION:The youth mission trip heads to West Virginia on August 2 and we need your help!  The community we serve is quite remote so all food and supplies need to go with us.  If you can help by providing and item or two from our list\, please sign up here: https://www.signupgenius.com/go/20F0E49A4AB2DA3F94-57367691-youth\nIf you’d rather make a financial contribution\, simply note Youth Mission and drop it in the offering plate or send to Louise in the office.  Please contact Meredith with any questions.
URL:https://fpckzoo.org/event/youth-mission-2025-food-and-supply-sign-up/
CATEGORIES:Young Adult Group
ATTACH;FMTTYPE=image/jpeg:https://fpckzoo.org/wp-content/uploads/2025/07/youth-mission.jpg
END:VEVENT
BEGIN:VEVENT
DTSTART;TZID=America/Detroit:20250702T100000
DTEND;TZID=America/Detroit:20250702T110000
DTSTAMP:20260419T205835
CREATED:20250624T171819Z
LAST-MODIFIED:20250624T172344Z
UID:6816-1751450400-1751454000@fpckzoo.org
SUMMARY:In honor of Jeanene Lewis
DESCRIPTION:An inurnment ceremony will take place at the Columbarium\, in loving memory of Jeanene Lewis.
URL:https://fpckzoo.org/event/in-memory-of-jeanene-lewis/
LOCATION:Sanctuary\, 321 W South Street\, Kalamazoo\, MI\, 49007\, United States
ORGANIZER;CN="Seth Weeldreyer":MAILTO:sethw@fpckzoo.org
END:VEVENT
BEGIN:VEVENT
DTSTART;TZID=America/Detroit:20250630T140000
DTEND;TZID=America/Detroit:20250630T143000
DTSTAMP:20260419T205835
CREATED:20250624T134210Z
LAST-MODIFIED:20250624T172309Z
UID:6800-1751292000-1751293800@fpckzoo.org
SUMMARY:In honor of Gloria Lee
DESCRIPTION:You’re invited to the columbarium for a loving inurnment ceremony for Gloria Lee.
URL:https://fpckzoo.org/event/in-loving-memory-of-gloria-lee/
LOCATION:Sanctuary\, 321 W South Street\, Kalamazoo\, MI\, 49007\, United States
END:VEVENT
BEGIN:VEVENT
DTSTART;TZID=America/Detroit:20250622T110000
DTEND;TZID=America/Detroit:20250622T120000
DTSTAMP:20260419T205835
CREATED:20250612T181309Z
LAST-MODIFIED:20250612T181309Z
UID:6764-1750590000-1750593600@fpckzoo.org
SUMMARY:Book Discussion
DESCRIPTION:Author William Schwartz will be the visiting preacher on 6/22/2025.\nFollowing worship\, he will lead a discussion related to his book Islam: A Christian Understanding (the very book about which we’ve been Noodling at Noon on Tuesdays).\nBill has served much of his life working with the Anglican church in the Eastern Mediterranean / Arabian region of the world. Plan to share this intriguing and informative opportunity starting right after our 10 am Sunday service.
URL:https://fpckzoo.org/event/book-discussion/
LOCATION:Sanctuary\, 321 W South Street\, Kalamazoo\, MI\, 49007\, United States
ORGANIZER;CN="Seth Weeldreyer":MAILTO:sethw@fpckzoo.org
END:VEVENT
BEGIN:VEVENT
DTSTART;TZID=America/Detroit:20250608T120000
DTEND;TZID=America/Detroit:20250608T120000
DTSTAMP:20260419T205835
CREATED:20250515T172511Z
LAST-MODIFIED:20250515T172511Z
UID:6663-1749384000-1749384000@fpckzoo.org
SUMMARY:All-Church Picnic
DESCRIPTION:Join your church family after Sunday service for stories\, laughter and community. Hamburgers and hotdogs will be provided.\nPlease bring a side dish to share\, delivering it to members of the Congregational Life Committee who will be waiting (starting at 9 am) before Worship.\nAfter church\, your dishes will be transported to Bronson Park. In case of rain\, we will move to the dining room.
URL:https://fpckzoo.org/event/all-church-picnic/
LOCATION:Bronson Park
END:VEVENT
BEGIN:VEVENT
DTSTART;TZID=America/Detroit:20250601T140000
DTEND;TZID=America/Detroit:20250601T170000
DTSTAMP:20260419T205835
CREATED:20250507T154154Z
LAST-MODIFIED:20250521T172406Z
UID:6600-1748786400-1748797200@fpckzoo.org
SUMMARY:Pine Island Chapel Dedication
DESCRIPTION:You’re Invited!\nWe are thrilled to announce the Dedication of the Pine Island Chapel on Sunday\, June 1\, 2025! The celebration will include an open house beginning at 2:00 p.m.\, followed by a special Worship Service at 4:00 p.m. (Please RSVP.)\nTo help ensure a safe and comfortable experience for all\, especially given limited parking and property capacity\, attendance for the worship service will be capped at 100 guests. We want everyone to feel welcomed without crowding the space or creating challenges for parking.  Carpooling is strongly encouraged!\nIf interest exceeds that number\, we may offer an additional opportunity to worship at a future date.\nTo help us plan\, we kindly ask that you RSVP in advance if you intend to attend the Worship Service.\nPine Island Dedication R.S.V.P. 6.1.25
URL:https://fpckzoo.org/event/pine-island-chapel-dedication/
LOCATION:Pine Island Chapel\, 8882 W Q Ave.\, Mattawan\, MI\, 49071\, United States
ATTACH;FMTTYPE=image/jpeg:https://fpckzoo.org/wp-content/uploads/2025/05/thumbnail_PI-lOGO-For-Dedication-5.21.25.jpg
END:VEVENT
BEGIN:VEVENT
DTSTART;TZID=America/Detroit:20250529T190000
DTEND;TZID=America/Detroit:20250529T190000
DTSTAMP:20260419T205835
CREATED:20250515T171841Z
LAST-MODIFIED:20250515T171841Z
UID:6661-1748545200-1748545200@fpckzoo.org
SUMMARY:Ascension Day Concert
DESCRIPTION:  \nThis retrospective concert will feature the Choir\, Red Door Ringers\, and other musicians connected to our church\, looking back on all the great music that has been presented in our space throughout this ensemble season. Free admission with a cookie reception to follow in the gathering place.
URL:https://fpckzoo.org/event/ascension-day-concert/
LOCATION:Sanctuary\, 321 W South Street\, Kalamazoo\, MI\, 49007\, United States
END:VEVENT
BEGIN:VEVENT
DTSTART;TZID=America/Detroit:20250525T120000
DTEND;TZID=America/Detroit:20250525T120000
DTSTAMP:20260419T205835
CREATED:20250515T171703Z
LAST-MODIFIED:20250515T171703Z
UID:6658-1748174400-1748174400@fpckzoo.org
SUMMARY:“International climate action implementation: I have a dream” by Dr. Paul Clements
DESCRIPTION:Dr. Clements notes: “President Trump’s reversal of the Biden Administration’s climate action policies and withdrawal from the Paris Agreement has catastrophic implications for international responses to the climate crisis. :Long before Trump entered national politics\, however\, the United States had rejected responsibility for international effects of our carbon polluion” \nHe states that “I have a dream” how citizen action can address this. Come hear Dr. Clements talk on Sunday\, May 25\, after worship.
URL:https://fpckzoo.org/event/international-climate-action-implementation-i-have-a-dream-by-dr-paul-clements/
LOCATION:Room 314
END:VEVENT
BEGIN:VEVENT
DTSTART;TZID=America/Detroit:20250520T190000
DTEND;TZID=America/Detroit:20250520T190000
DTSTAMP:20260419T205835
CREATED:20250515T171201Z
LAST-MODIFIED:20250515T171201Z
UID:6655-1747767600-1747767600@fpckzoo.org
SUMMARY:KSO Community Concert
DESCRIPTION:Join musicians of the Kalamazoo Symphony Orchestra for an evening of chamber music. The program will feature works by Beethoven\, Kreutzer\, and living composures Anna Clyne and John Duncan. Admission is free\, but reservation is required and can be done at kalamazoosymphony.com
URL:https://fpckzoo.org/event/kso-community-concert/
LOCATION:Sanctuary\, 321 W South Street\, Kalamazoo\, MI\, 49007\, United States
END:VEVENT
BEGIN:VEVENT
DTSTART;TZID=America/Detroit:20250509T120000
DTEND;TZID=America/Detroit:20250509T120000
DTSTAMP:20260419T205835
CREATED:20250430T184951Z
LAST-MODIFIED:20250501T140959Z
UID:6574-1746792000-1746792000@fpckzoo.org
SUMMARY:Memorial Service - Martha Ford
DESCRIPTION:There will be a memorial service for Martha Ford\nin the Sanctuary at Noon on May 9th.
URL:https://fpckzoo.org/event/memorial-service/
LOCATION:Sanctuary\, 321 W South Street\, Kalamazoo\, MI\, 49007\, United States
END:VEVENT
BEGIN:VEVENT
DTSTART;TZID=America/Detroit:20250503T190000
DTEND;TZID=America/Detroit:20250503T200000
DTSTAMP:20260419T205835
CREATED:20250421T180321Z
LAST-MODIFIED:20250421T180808Z
UID:6554-1746298800-1746302400@fpckzoo.org
SUMMARY:Memorial Service: Gary Elfring
DESCRIPTION:A memorial service for Gary Elfring will be held in the Sanctuary on May 3\, 2025 at 7 PM
URL:https://fpckzoo.org/event/memorial-service-gary-elfring/
LOCATION:Sanctuary\, 321 W South Street\, Kalamazoo\, MI\, 49007\, United States
ATTACH;FMTTYPE=image/png:https://fpckzoo.org/wp-content/uploads/2025/04/Screenshot-2025-04-21-134738.png
END:VEVENT
BEGIN:VEVENT
DTSTART;TZID=America/Detroit:20250503T150000
DTEND;TZID=America/Detroit:20250503T170000
DTSTAMP:20260419T205835
CREATED:20250421T180056Z
LAST-MODIFIED:20250421T180830Z
UID:6547-1746284400-1746291600@fpckzoo.org
SUMMARY:Memorial Service: Carol Payne-Smith
DESCRIPTION:A memorial service for Carol Payne-Smith will be held in the Sanctuary at 3 PM\, Saturday\, May 3\, 2025
URL:https://fpckzoo.org/event/memorial-service-carol-payne-smith/
LOCATION:Sanctuary\, 321 W South Street\, Kalamazoo\, MI\, 49007\, United States
ATTACH;FMTTYPE=image/jpeg:https://fpckzoo.org/wp-content/uploads/2025/04/lilies-graphic.jpg
END:VEVENT
BEGIN:VEVENT
DTSTART;TZID=America/Detroit:20250427T150000
DTEND;TZID=America/Detroit:20250427T163000
DTSTAMP:20260419T205835
CREATED:20250423T180610Z
LAST-MODIFIED:20250423T180610Z
UID:6560-1745766000-1745771400@fpckzoo.org
SUMMARY:Combined Concert: Kalamazoo Community Chorale / Kalamazoo Male Chorus
DESCRIPTION:The Kalamazoo Community Chorale (KCC) began in 1934 as the Mother Singers\, comprised primarily of\nmothers seeking an opportunity to participate in choral music activities without the requirement of an\naudition or an extensive musical background. Today\, the Chorale consists of 60-75 members who come\nfrom the greater Kalamazoo area. The Chorale is comprised of women who thoroughly enjoy music as\nwell as the camaraderie and fellowship that comes from belonging to a group. The experience level of\nour members ranges from professional\, formally educated musicians to those who have pleasant\nsinging voices and enjoy performing within a group.
URL:https://fpckzoo.org/event/combined-concert-kalamazoo-community-chorale-kalamazoo-male-chorus/
LOCATION:Sanctuary\, 321 W South Street\, Kalamazoo\, MI\, 49007\, United States
CATEGORIES:Choir,Concert
ATTACH;FMTTYPE=image/avif:https://fpckzoo.org/wp-content/uploads/2025/04/kcc-spring-25.avif
END:VEVENT
BEGIN:VEVENT
DTSTART;VALUE=DATE:20250427
DTEND;VALUE=DATE:20250428
DTSTAMP:20260419T205835
CREATED:20250401T133305Z
LAST-MODIFIED:20250421T180534Z
UID:6433-1745712000-1745798399@fpckzoo.org
SUMMARY:CROP WALK
DESCRIPTION:If we work together\, we can end world hunger. That’s why we’re participating in the CROP Hunger Walk to support CWS and help families who are struggling with hunger. Please join us with your steps and your donations. Together we will provide more meals for the growing number of people in our community who need them and create greater food security in communities around the world. \nPlease donate to our team today! \n\nAedin Clements\, Laurie Tupper and Wendy King
URL:https://fpckzoo.org/event/crop-walk/
END:VEVENT
BEGIN:VEVENT
DTSTART;TZID=America/Detroit:20250420T100000
DTEND;TZID=America/Detroit:20250420T110000
DTSTAMP:20260419T205835
CREATED:20250326T185639Z
LAST-MODIFIED:20250410T155815Z
UID:6409-1745143200-1745146800@fpckzoo.org
SUMMARY:Easter Sunday Worship with Holy Communion
DESCRIPTION:Lo! Jesus meets us\nrisen from the tomb;\nlovingly he greets us\,\nscatters fear and gloom.\nLet the church with gladness\nhymns of triumph sing\,\nfor the Lord now liveth;\ndeath hath lost its sting. \n~ “Thine is the Glory” \nArt by Rev. Heather Thum-Gerber
URL:https://fpckzoo.org/event/easter-sunday-worship-with-holy-communion/
LOCATION:Sanctuary\, 321 W South Street\, Kalamazoo\, MI\, 49007\, United States
CATEGORIES:Worship
ATTACH;FMTTYPE=image/png:https://fpckzoo.org/wp-content/uploads/2025/03/Easter.png
END:VEVENT
END:VCALENDAR