BEGIN:VCALENDAR
VERSION:2.0
PRODID:-//Kalamazoo First Presbyterian Church - ECPv6.15.20//NONSGML v1.0//EN
CALSCALE:GREGORIAN
METHOD:PUBLISH
X-WR-CALNAME:Kalamazoo First Presbyterian Church
X-ORIGINAL-URL:https://fpckzoo.org
X-WR-CALDESC:Events for Kalamazoo First Presbyterian Church
REFRESH-INTERVAL;VALUE=DURATION:PT1H
X-Robots-Tag:noindex
X-PUBLISHED-TTL:PT1H
BEGIN:VTIMEZONE
TZID:America/Detroit
BEGIN:DAYLIGHT
TZOFFSETFROM:-0500
TZOFFSETTO:-0400
TZNAME:EDT
DTSTART:20240310T070000
END:DAYLIGHT
BEGIN:STANDARD
TZOFFSETFROM:-0400
TZOFFSETTO:-0500
TZNAME:EST
DTSTART:20241103T060000
END:STANDARD
BEGIN:DAYLIGHT
TZOFFSETFROM:-0500
TZOFFSETTO:-0400
TZNAME:EDT
DTSTART:20250309T070000
END:DAYLIGHT
BEGIN:STANDARD
TZOFFSETFROM:-0400
TZOFFSETTO:-0500
TZNAME:EST
DTSTART:20251102T060000
END:STANDARD
BEGIN:DAYLIGHT
TZOFFSETFROM:-0500
TZOFFSETTO:-0400
TZNAME:EDT
DTSTART:20260308T070000
END:DAYLIGHT
BEGIN:STANDARD
TZOFFSETFROM:-0400
TZOFFSETTO:-0500
TZNAME:EST
DTSTART:20261101T060000
END:STANDARD
BEGIN:DAYLIGHT
TZOFFSETFROM:-0500
TZOFFSETTO:-0400
TZNAME:EDT
DTSTART:20270314T070000
END:DAYLIGHT
BEGIN:STANDARD
TZOFFSETFROM:-0400
TZOFFSETTO:-0500
TZNAME:EST
DTSTART:20271107T060000
END:STANDARD
END:VTIMEZONE
BEGIN:VEVENT
DTSTART;TZID=America/Detroit:20260424T103000
DTEND;TZID=America/Detroit:20260424T113000
DTSTAMP:20260419T141129
CREATED:20260317T181720Z
LAST-MODIFIED:20260317T181720Z
UID:7706-1777026600-1777030200@fpckzoo.org
SUMMARY:Memorial - Mary Brooks 4/24/26 @ 10:30 AM
DESCRIPTION:Memorial Service – Mary H. Brooks\nPlease note the updated service time. \nThe memorial service forMary H. Brooks\,\npreviously announced for 11:00 am\,\nwill now begin at 10:30 am on Friday\, April 24\, in the Sanctuary. \nVisitation will take place from 9:30–10:30 am\, with a reception in the Gathering Place following the service.
URL:https://fpckzoo.org/event/memorial-mary-brooks-4-24-26-1030-am/
LOCATION:MI
ATTACH;FMTTYPE=image/png:https://fpckzoo.org/wp-content/uploads/2025/07/climbing-lily-of-the-valley-e1773771237980.png
END:VEVENT
BEGIN:VEVENT
DTSTART;TZID=America/Detroit:20260412T100000
DTEND;TZID=America/Detroit:20260412T143000
DTSTAMP:20260419T141129
CREATED:20260401T160853Z
LAST-MODIFIED:20260401T160853Z
UID:7746-1775988000-1776004200@fpckzoo.org
SUMMARY:Welcome Rev. Jihyun Oh
DESCRIPTION:We are honored to welcome Rev. Oh through the support of the McShane Colloquium. \nThe Rev. Jihyun Oh is the Stated Clerk of the General Assembly and Executive Director of the Interim United Agency of the Presbyterian Church (U.S.A.). She was elected and installed at the 226th General Assembly in July 2024. Oh is only the second woman to serve in the denomination’s highest office\, and the first woman and the first Korean American elected to lead the PC(USA) in its more than 300-year history in the United States. \nSchedule of Events \n10 a.m. – Worship Service and Sermon: “Peace Be With You”\nFollowed by lunch in the Dining Room \n1:30 p.m. – Keynote Address: “Living as Resurrection People in a Death-Dealing World”\nFollowed by a reception in the Gathering Place \n 
URL:https://fpckzoo.org/event/welcome-rev-jihyun-oh/
LOCATION:Sanctuary\, 321 W South Street\, Kalamazoo\, MI\, 49007\, United States
ATTACH;FMTTYPE=image/jpeg:https://fpckzoo.org/wp-content/uploads/2026/04/rev-oh.jpg
END:VEVENT
BEGIN:VEVENT
DTSTART;TZID=America/Detroit:20260411T100000
DTEND;TZID=America/Detroit:20260411T110000
DTSTAMP:20260419T141129
CREATED:20260319T170844Z
LAST-MODIFIED:20260319T170844Z
UID:7720-1775901600-1775905200@fpckzoo.org
SUMMARY:Memorial - Jerre James
DESCRIPTION:Memorial Service – Jerre James\nThe memorial service for Jerre James\,\nwill be held on April 11th @ 10 AM\, in the FPC Sanctuary\nReception to follow
URL:https://fpckzoo.org/event/memorial-jerre-james/
LOCATION:MI
ATTACH;FMTTYPE=image/png:https://fpckzoo.org/wp-content/uploads/2025/07/climbing-lily-of-the-valley-e1773771237980.png
END:VEVENT
BEGIN:VEVENT
DTSTART;TZID=America/Detroit:20260405T100000
DTEND;TZID=America/Detroit:20260405T110000
DTSTAMP:20260419T141129
CREATED:20260225T180307Z
LAST-MODIFIED:20260225T180307Z
UID:7641-1775383200-1775386800@fpckzoo.org
SUMMARY:Easter Sunday Worship with Holy Communion
DESCRIPTION:Lo! Jesus meets us\nrisen from the tomb;\nlovingly he greets us\,\nscatters fear and gloom.\nLet the church with gladness\nhymns of triumph sing\,for the Lord now liveth;\ndeath hath lost its sting. \n~ “Thine is the Glory” \n             Art by Rev. Heather Thum-Gerber
URL:https://fpckzoo.org/event/easter-sunday-worship-with-holy-communion-2/
LOCATION:Sanctuary\, 321 W South Street\, Kalamazoo\, MI\, 49007\, United States
ATTACH;FMTTYPE=image/png:https://fpckzoo.org/wp-content/uploads/2025/04/Easter-new.png
END:VEVENT
BEGIN:VEVENT
DTSTART;TZID=America/Detroit:20260405T070000
DTEND;TZID=America/Detroit:20260405T073000
DTSTAMP:20260419T141129
CREATED:20260402T162532Z
LAST-MODIFIED:20260402T162532Z
UID:7754-1775372400-1775374200@fpckzoo.org
SUMMARY:Sunrise Service
DESCRIPTION:Resurrection of the Lord Sunrise Service \n7 a.m. at Pine Island Chapel
URL:https://fpckzoo.org/event/sunrise-service/
LOCATION:Pine Island Chapel\, 8882 W Q Ave.\, Mattawan\, MI\, 49071\, United States
ATTACH;FMTTYPE=image/jpeg:https://fpckzoo.org/wp-content/uploads/2026/04/palm-sunday-easter-calendar-.jpg
END:VEVENT
BEGIN:VEVENT
DTSTART;TZID=America/Detroit:20260403T190000
DTEND;TZID=America/Detroit:20260403T200000
DTSTAMP:20260419T141129
CREATED:20260225T175901Z
LAST-MODIFIED:20260225T175901Z
UID:7639-1775242800-1775246400@fpckzoo.org
SUMMARY:Good Friday Service
DESCRIPTION:Art by Reverend Heather Thum Gerber
URL:https://fpckzoo.org/event/good-friday-service/
LOCATION:Sanctuary\, 321 W South Street\, Kalamazoo\, MI\, 49007\, United States
ATTACH;FMTTYPE=image/jpeg:https://fpckzoo.org/wp-content/uploads/2025/04/Good-Friday-ombre.jpeg
END:VEVENT
BEGIN:VEVENT
DTSTART;TZID=America/Detroit:20260402T190000
DTEND;TZID=America/Detroit:20260402T200000
DTSTAMP:20260419T141129
CREATED:20260225T175400Z
LAST-MODIFIED:20260225T175400Z
UID:7637-1775156400-1775160000@fpckzoo.org
SUMMARY:Maundy Thursday Worship with Holy Communion
DESCRIPTION:We will share readings and prayers\, choral music and commemoration of the Last Supper\,\nas we hold the tension between Jesus’ life and ministry and the crucifixion to come.\nWe end with prayer in the Garden of Gethsemane — will we remain awake with him in prayer?\n \nArt by Reverend Heather Thum Gerber
URL:https://fpckzoo.org/event/maundy-thursday-worship-with-holy-communion-2/
LOCATION:Sanctuary\, 321 W South Street\, Kalamazoo\, MI\, 49007\, United States
ATTACH;FMTTYPE=image/png:https://fpckzoo.org/wp-content/uploads/2025/04/Maundy-Thurs-new.png
END:VEVENT
BEGIN:VEVENT
DTSTART;TZID=America/Detroit:20260329T094500
DTEND;TZID=America/Detroit:20260329T110000
DTSTAMP:20260419T141129
CREATED:20260225T174743Z
LAST-MODIFIED:20260225T174743Z
UID:7635-1774777500-1774782000@fpckzoo.org
SUMMARY:Palm Sunday Worship
DESCRIPTION:We will meet in Bronson Park @ 9:45 before moving\nto the Sanctuary for Palm Sunday Service. \n \nArt by Reverend Heather Thum Gerber
URL:https://fpckzoo.org/event/palm-sunday-worship-2/
LOCATION:MI
ATTACH;FMTTYPE=image/png:https://fpckzoo.org/wp-content/uploads/2025/04/Palm-Sun-new.png
END:VEVENT
BEGIN:VEVENT
DTSTART;TZID=America/Detroit:20260322T100000
DTEND;TZID=America/Detroit:20260322T123000
DTSTAMP:20260419T141129
CREATED:20260312T164253Z
LAST-MODIFIED:20260312T164253Z
UID:7692-1774173600-1774182600@fpckzoo.org
SUMMARY:Special Guest: The Reverend Dr. Timothy McNinch
DESCRIPTION:First Presbyterian Church is delighted to welcome Rev. Dr. Tim McNinch as our guest pastor on\nSunday\, March 22.\nDr. McNinch currently serves as Assistant Professor of Hebrew Bible at Christian Theological Seminary\, where he also directs the Master of Theological Studies program.\nIn worship\, Dr. McNinch will preach on the theme of “the ongoing tension between death and resurrection\,” drawing from the scripture readings: John 11:32–43 and Ezekiel 37:1–14.\nFollowing the service\, he will lead a talk-back class titled: “Embodying a Prophetic Spirituality: Learning from the Old Testament Prophets Today.” This\nsession will explore how the biblical prophets learned to hear God’s voice amid turbulence and how their practices can shape our own spiritual lives today.\nWe look forward to welcoming Dr. McNinch\, a Kalamazoo native\, back home. Please join us for this meaningful Sunday and bring a friend!
URL:https://fpckzoo.org/event/special-guest-the-reverend-dr-timothy-mcninch/
LOCATION:Sanctuary\, 321 W South Street\, Kalamazoo\, MI\, 49007\, United States
ATTACH;FMTTYPE=image/jpeg:https://fpckzoo.org/wp-content/uploads/2026/03/Tim-McNinch-headshot.jpg
END:VEVENT
BEGIN:VEVENT
DTSTART;TZID=America/Detroit:20260315T110000
DTEND;TZID=America/Detroit:20260315T140000
DTSTAMP:20260419T141129
CREATED:20260224T144929Z
LAST-MODIFIED:20260225T181156Z
UID:7630-1773572400-1773583200@fpckzoo.org
SUMMARY:Annual Congregational Meeting
DESCRIPTION:Our Annual Congregational Meeting and shared meal will be on Sunday\, March 15\, in the Dining Room immediately after worship.\nThis special time together lets us celebrate the past year\, renew our commitment to one another\, and consider our hopes and challenges for the future. \nThe Congregational Life Committee will provide warm breakfast casseroles. Please bring a dish to share—fruit\, salad\, vegetables\, or pastries are all welcome. Potluck items may be dropped off in the kitchen before worship; our committee will handle warming and serving. \nIf you have questions\, contact Sherrill at 269-808-1096.\nWe look forward to sharing this meaningful and joyful time together! \n 
URL:https://fpckzoo.org/event/annual-congregational-meeting/
LOCATION:FPC Dining Room\, 321 West South Street\, Kalamazoo\, MI\, 49007-4708\, United States
ATTACH;FMTTYPE=image/jpeg:https://fpckzoo.org/wp-content/uploads/2026/02/ChatGPT-Image-Feb-25-2026-12_55_14-PM.jpg
END:VEVENT
BEGIN:VEVENT
DTSTART;TZID=America/Detroit:20260301T113000
DTEND;TZID=America/Detroit:20260301T130000
DTSTAMP:20260419T141129
CREATED:20260225T145441Z
LAST-MODIFIED:20260225T145441Z
UID:7632-1772364600-1772370000@fpckzoo.org
SUMMARY:
DESCRIPTION:Help us celebrate Seth’s ministry as he departs for his new call at\nFirst Presbyterian Church of Greenwich\, Connecticut.\n\nOpen house reception for\nRev. Dr. Seth Weeldreyer\n\nSunday\, March 1\n11:30 a.m. – 1:00 p.m.\nin the FPC dining room\nJoin us for shared refreshments\, memories & well-wishes\non Seth’s last day at FPC.
URL:https://fpckzoo.org/event/7632/
LOCATION:FPC Dining Room\, 321 West South Street\, Kalamazoo\, MI\, 49007-4708\, United States
ATTACH;FMTTYPE=image/jpeg:https://fpckzoo.org/wp-content/uploads/2026/02/Seth-Send-off-Invitation.jpg
END:VEVENT
BEGIN:VEVENT
DTSTART;TZID=America/Detroit:20260218T190000
DTEND;TZID=America/Detroit:20260218T200000
DTSTAMP:20260419T141129
CREATED:20260211T163651Z
LAST-MODIFIED:20260211T163651Z
UID:7605-1771441200-1771444800@fpckzoo.org
SUMMARY:Ash Wednesday Worship 7PM
DESCRIPTION:
URL:https://fpckzoo.org/event/ash-wednesday-worship-7pm/
LOCATION:Sanctuary\, 321 W South Street\, Kalamazoo\, MI\, 49007\, United States
ATTACH;FMTTYPE=image/png:https://fpckzoo.org/wp-content/uploads/2026/02/Ash-Cross.png
END:VEVENT
BEGIN:VEVENT
DTSTART;TZID=America/Detroit:20260218T120000
DTEND;TZID=America/Detroit:20260218T130000
DTSTAMP:20260419T141129
CREATED:20260211T163523Z
LAST-MODIFIED:20260211T163523Z
UID:7602-1771416000-1771419600@fpckzoo.org
SUMMARY:Ash Wednesday Worship At Noon
DESCRIPTION:
URL:https://fpckzoo.org/event/ash-wednesday-worship-at-noon/
LOCATION:Sanctuary\, 321 W South Street\, Kalamazoo\, MI\, 49007\, United States
ATTACH;FMTTYPE=image/png:https://fpckzoo.org/wp-content/uploads/2026/02/Ash-Cross.png
END:VEVENT
BEGIN:VEVENT
DTSTART;TZID=America/Detroit:20260215T110000
DTEND;TZID=America/Detroit:20260215T120000
DTSTAMP:20260419T141129
CREATED:20260205T143434Z
LAST-MODIFIED:20260211T164926Z
UID:7580-1771153200-1771156800@fpckzoo.org
SUMMARY:Soup-er Bowl Sunday Annual Cook-off
DESCRIPTION:
URL:https://fpckzoo.org/event/soup-er-bowl-sunday-annual-cook-off/
LOCATION:Dining Room\, 321 W South Street\, Kalamazoo\, MI\, 49007\, United States
ATTACH;FMTTYPE=image/jpeg:https://fpckzoo.org/wp-content/uploads/2026/02/Souper-Bowl-Cook-off-4.jpg
END:VEVENT
BEGIN:VEVENT
DTSTART;TZID=America/Detroit:20251225T100000
DTEND;TZID=America/Detroit:20251225T110000
DTSTAMP:20260419T141129
CREATED:20251016T172944Z
LAST-MODIFIED:20251211T151430Z
UID:7219-1766656800-1766660400@fpckzoo.org
SUMMARY:Christmas Morning Service
DESCRIPTION:Join Pastor Seth in the Sanctuary at 10 a.m. for carols\, scripture and prayer. \n 
URL:https://fpckzoo.org/event/christmas-morning-service/
LOCATION:Sanctuary\, 321 W South Street\, Kalamazoo\, MI\, 49007\, United States
END:VEVENT
BEGIN:VEVENT
DTSTART;VALUE=DATE:20251224
DTEND;VALUE=DATE:20251225
DTSTAMP:20260419T141129
CREATED:20251016T173109Z
LAST-MODIFIED:20251223T192047Z
UID:7221-1766534400-1766620799@fpckzoo.org
SUMMARY:Candlelight Communion - Christmas Eve Service
DESCRIPTION:Two times offered on Christmas Eve for receiving the Lord’s Supper. \n7 p.m. bulletin here \n11 p.m. bulletin here
URL:https://fpckzoo.org/event/candlelight-communion-christmas-eve-service/
LOCATION:Sanctuary\, 321 W South Street\, Kalamazoo\, MI\, 49007\, United States
ATTACH;FMTTYPE=image/jpeg:https://fpckzoo.org/wp-content/uploads/2025/10/12.24.25-web-COVER.jpg
END:VEVENT
BEGIN:VEVENT
DTSTART;TZID=America/Detroit:20251221T170000
DTEND;TZID=America/Detroit:20251221T180000
DTSTAMP:20260419T141129
CREATED:20251211T151320Z
LAST-MODIFIED:20251211T151320Z
UID:7425-1766336400-1766340000@fpckzoo.org
SUMMARY:The Longest Night Service
DESCRIPTION:Pine Island Chapel bi-monthly service\, on this occasion\, marks the time to acknowledge the grief often accompanying the joy of the holiday season. \nJoin us at 5 PM at 8882 W Q Avenue\, Mattawan – Together we will honor both the light and the shadows\, share prayers\, seek peace and remember that even in the longest night\, God’s light shines.
URL:https://fpckzoo.org/event/the-longest-night-service/
LOCATION:Pine Island Chapel\, 8882 W Q Ave.\, Mattawan\, MI\, 49071\, United States
CATEGORIES:Worship
ATTACH;FMTTYPE=image/jpeg:https://fpckzoo.org/wp-content/uploads/2025/12/water-color-pine-tree-002.jpg
END:VEVENT
BEGIN:VEVENT
DTSTART;TZID=America/Detroit:20251214T180000
DTEND;TZID=America/Detroit:20251214T190000
DTSTAMP:20260419T141129
CREATED:20250903T190302Z
LAST-MODIFIED:20251211T184936Z
UID:7058-1765735200-1765738800@fpckzoo.org
SUMMARY:Candlelight Lessons and Carols
DESCRIPTION:Sunday\, December 14 at 6 p.m. \nJoin us for a festive service of music with choir\, bells and brass. We line the center aisle and front of our sanctuary with candles\, opening our hearts to the beauty and wonder of Divine Light. \nChristmas Chocolates\, courtesy of the Congregational Life Committee\, begins at 5 p.m. in the Gathering Place. \nClick for bulletin
URL:https://fpckzoo.org/event/candlelight-carols/
LOCATION:Sanctuary\, 321 W South Street\, Kalamazoo\, MI\, 49007\, United States
ATTACH;FMTTYPE=image/jpeg:https://fpckzoo.org/wp-content/uploads/2025/09/candlelight-lessons-3.jpg
END:VEVENT
BEGIN:VEVENT
DTSTART;TZID=America/Detroit:20251207T110000
DTEND;TZID=America/Detroit:20251207T130000
DTSTAMP:20260419T141129
CREATED:20251110T144342Z
LAST-MODIFIED:20251110T144342Z
UID:7326-1765105200-1765112400@fpckzoo.org
SUMMARY:🎄 Holiday Bazaar at First Presbyterian Church
DESCRIPTION:🎄 Holiday Bazaar at First Presbyterian Church\nSunday\, December 7 – Following Worship | The Gathering Place \nJoin us for festive fellowship\, fun\, and holiday spirit! Our Holiday Bazaar will feature tables hosted by many of our church committees and groups\, each offering seasonal treats\, crafts\, and creative gifts. Browse\, mingle\, and enjoy the sights and sounds of the season while supporting our ministries. \nThe Scouts will also be on hand selling beautiful holiday wreaths\, perfect for brightening your home or gifting to a friend. \nCome celebrate the joy of community and the warmth of the season at FPC’s Holiday Bazaar!
URL:https://fpckzoo.org/event/%f0%9f%8e%84-holiday-bazaar-at-first-presbyterian-church/
LOCATION:FPC Kzoo
ATTACH;FMTTYPE=image/jpeg:https://fpckzoo.org/wp-content/uploads/2025/11/Holiday-Bazaar-2024.jpg
END:VEVENT
BEGIN:VEVENT
DTSTART;TZID=America/Detroit:20251026T113000
DTEND;TZID=America/Detroit:20251026T123000
DTSTAMP:20260419T141129
CREATED:20251016T160513Z
LAST-MODIFIED:20251022T182243Z
UID:7213-1761478200-1761481800@fpckzoo.org
SUMMARY:James Abbington - discussion
DESCRIPTION:Together we will watch a presentation by the late hymnologist Dr. James Abbington. We’ll learn some history of African American Spirituals\, Hymns\, Gospel Music and how each style informs and interacts with one another; time for questions and discussion include. Dr. Abbington was an author\, editor of several hymnals\, and taught at Emory University’s Candler School of theology for many years. Join us as we enrich our knowledge of sacred music!
URL:https://fpckzoo.org/event/james-abbington-interview-and-discussion/
LOCATION:Church Library
END:VEVENT
BEGIN:VEVENT
DTSTART;TZID=America/Detroit:20251019T113000
DTEND;TZID=America/Detroit:20251019T123000
DTSTAMP:20260419T141129
CREATED:20251016T160329Z
LAST-MODIFIED:20251016T160329Z
UID:7211-1760873400-1760877000@fpckzoo.org
SUMMARY:FPC's Racial Equity Policy
DESCRIPTION:Join us for this important class regarding what is in our Racial Equity Policy. We will discuss the details and how we can live into it. \n11:30 a.m. on 10/19
URL:https://fpckzoo.org/event/fpcs-racial-equity-policy/
LOCATION:Room 306
END:VEVENT
BEGIN:VEVENT
DTSTART;TZID=America/Detroit:20251012T160000
DTEND;TZID=America/Detroit:20251012T170000
DTSTAMP:20260419T141129
CREATED:20250903T190048Z
LAST-MODIFIED:20250903T190320Z
UID:7056-1760284800-1760288400@fpckzoo.org
SUMMARY:Halloween Organ Spooktacular
DESCRIPTION:Costumes are encouraged for this free concert in the Sanctuary. \nOctober 12 at 4 PM
URL:https://fpckzoo.org/event/halloween-organ-spooktacular-2/
LOCATION:Sanctuary\, 321 W South Street\, Kalamazoo\, MI\, 49007\, United States
ATTACH;FMTTYPE=image/jpeg:https://fpckzoo.org/wp-content/uploads/2022/01/Organ-e1756926032862.jpg
END:VEVENT
BEGIN:VEVENT
DTSTART;TZID=America/Detroit:20250921T150000
DTEND;TZID=America/Detroit:20250921T160000
DTSTAMP:20260419T141129
CREATED:20250903T185659Z
LAST-MODIFIED:20250903T185659Z
UID:7053-1758466800-1758470400@fpckzoo.org
SUMMARY:Autumn in Season
DESCRIPTION:Join us for a free concert featuring our very own organist\, Autumn! \nSunday\, September 21 at 3 PM
URL:https://fpckzoo.org/event/autumn-in-season/
LOCATION:Sanctuary\, 321 W South Street\, Kalamazoo\, MI\, 49007\, United States
ATTACH;FMTTYPE=image/jpeg:https://fpckzoo.org/wp-content/uploads/2025/09/Organ-view-e1756925805213.jpg
END:VEVENT
BEGIN:VEVENT
DTSTART;TZID=America/Detroit:20250920T130000
DTEND;TZID=America/Detroit:20250920T140000
DTSTAMP:20260419T141129
CREATED:20250917T180120Z
LAST-MODIFIED:20250917T180120Z
UID:7115-1758373200-1758376800@fpckzoo.org
SUMMARY:A Memorial for Marilyn Boal
DESCRIPTION:In loving honor and memory of Marilyn Boal\, there will be a service in the Sanctuary at 1 PM on September 20. \nVisitation will begin at 11 am and take place at the church. \nInternment will happen at Riverside Cemetery immediately following the service.
URL:https://fpckzoo.org/event/a-memorial-for-marilyn-boal/
LOCATION:FPC Kzoo
ATTACH;FMTTYPE=image/jpeg:https://fpckzoo.org/wp-content/uploads/2025/04/lilies-graphic.jpg
END:VEVENT
BEGIN:VEVENT
DTSTART;TZID=America/Detroit:20250914T110000
DTEND;TZID=America/Detroit:20250914T130000
DTSTAMP:20260419T141129
CREATED:20250820T154615Z
LAST-MODIFIED:20250820T154615Z
UID:7030-1757847600-1757854800@fpckzoo.org
SUMMARY:New Members Exploration Class
DESCRIPTION:Are you curious about what it means to become a member of our church? Join us for an informal and welcoming New Members Exploration Class right after worship on Sunday\, September 14 in Room 314.\nThis is a great opportunity to: \n\nAsk questions about our church and beliefs\nExplore your personal faith journey\nLearn how to get involved in our church community\n\nHors d’oeuvres will be provided\, and we’ll wrap up by 1:00 p.m.\n📧 RSVP to Pastor Chrissy at Chrissyw@fpckzoo.org and let us know about any dietary needs so we can plan accordingly.\nWe look forward to welcoming you!
URL:https://fpckzoo.org/event/new-members-exploration-class/
LOCATION:Room 314
ORGANIZER;CN="Chrissy Westbury":MAILTO:chrissyw@fpckzoo.org
END:VEVENT
BEGIN:VEVENT
DTSTART;TZID=America/Detroit:20250914T100000
DTEND;TZID=America/Detroit:20250914T110000
DTSTAMP:20260419T141129
CREATED:20250910T142236Z
LAST-MODIFIED:20250910T142236Z
UID:7077-1757844000-1757847600@fpckzoo.org
SUMMARY:Sunday School Kick-off
DESCRIPTION:
URL:https://fpckzoo.org/event/sunday-school-kick-off/
LOCATION:Sanctuary\, 321 W South Street\, Kalamazoo\, MI\, 49007\, United States
CATEGORIES:Child & Youth
ORGANIZER;CN="Meredith Alspach":MAILTO:mereditha@fpckzoo.org
END:VEVENT
BEGIN:VEVENT
DTSTART;TZID=America/Detroit:20250910T140000
DTEND;TZID=America/Detroit:20250910T150000
DTSTAMP:20260419T141129
CREATED:20250820T155716Z
LAST-MODIFIED:20250820T155716Z
UID:7035-1757512800-1757516400@fpckzoo.org
SUMMARY:Presbyterian Women - Martha Circle
DESCRIPTION:The PW Purpose statement includes “to nurture our faith through prayer and Bible study” and “to build an inclusive\, caring community of women that strengthens the PC(USA) and witnesses to the promise of God’s kingdom”. \nYou are invited to be a part of the long history of Presbyterian women as we learn and grow together with Martha Circle. Martha Circle meets on the second Wednesday of each month at 2:00p.m. in the Gathering Place. \nWe are beginning the Bible study “Finding Resilience\, Joy\, and Our Identity in Jesus Christ”. On September 10th\, in Lesson 1\, we will learn about new scholarship regarding “Mary Magdalene\, The Tower” and how she is a model of resilience. We begin our gatherings by sharing our joys and concerns\, and planning any upcoming activities. We share Bible study and hospitality as Christian women in our time and place. \nFor more information contact Elaine Johns at emjohns513@aol.com. We look forward to welcoming you!
URL:https://fpckzoo.org/event/presbyterian-women-martha-circle/
LOCATION:The Gathering Place
ORGANIZER;CN="Elaine Johns":MAILTO:emjohns513@aol.com
END:VEVENT
BEGIN:VEVENT
DTSTART;TZID=America/Detroit:20250824T110000
DTEND;TZID=America/Detroit:20250824T120000
DTSTAMP:20260419T141129
CREATED:20250820T153945Z
LAST-MODIFIED:20250820T153945Z
UID:7026-1756033200-1756036800@fpckzoo.org
SUMMARY:Adult Faith Formation Task Force
DESCRIPTION:This meeting is to plan out the Adult Faith Formation calendar for this fall. \nDo you lead a small group or adult education program? Are you\ninterested in helping to organize or lead adult education opportunities at FPC? Whether it’s a\none-time class on a topic\, a book study\, or a longer-term small group\, the possibilities are endless.
URL:https://fpckzoo.org/event/adult-faith-formation-task-force/
LOCATION:Room 306
ORGANIZER;CN="Chrissy Westbury":MAILTO:chrissyw@fpckzoo.org
END:VEVENT
BEGIN:VEVENT
DTSTART;TZID=America/Detroit:20250824T110000
DTEND;TZID=America/Detroit:20250824T120000
DTSTAMP:20260419T141129
CREATED:20250820T153618Z
LAST-MODIFIED:20250820T153618Z
UID:7022-1756033200-1756036800@fpckzoo.org
SUMMARY:Children's Ministry Volunteer Meeting
DESCRIPTION:This informational meeting and training is for anyone who may enjoy working with children in Sunday School or the nursery. \nVolunteers are the very heart of our children’s programs and we need you! \nIf you want to help but cannot make it today\, please contact mereditha@fpckzoo.org \n 
URL:https://fpckzoo.org/event/childrens-ministry-volunteer-meeting/
LOCATION:Room 304
ORGANIZER;CN="Meredith Alspach":MAILTO:mereditha@fpckzoo.org
END:VEVENT
BEGIN:VEVENT
DTSTART;TZID=America/Detroit:20250819T123000
DTEND;TZID=America/Detroit:20250819T133000
DTSTAMP:20260419T141129
CREATED:20250807T191033Z
LAST-MODIFIED:20250812T160357Z
UID:6998-1755606600-1755610200@fpckzoo.org
SUMMARY:Memorial- Jeanene Lewis
DESCRIPTION:Visitation begins at 11 am. Service begins at 12:30 pm. \nThere will be a reception in the church dining room at 1:30 pm
URL:https://fpckzoo.org/event/memorial-jeanene-lewis/
LOCATION:Sanctuary\, 321 W South Street\, Kalamazoo\, MI\, 49007\, United States
ATTACH;FMTTYPE=image/jpeg:https://fpckzoo.org/wp-content/uploads/2025/04/lilies-graphic.jpg
END:VEVENT
END:VCALENDAR