BEGIN:VCALENDAR
VERSION:2.0
PRODID:-//Kalamazoo First Presbyterian Church - ECPv6.15.20//NONSGML v1.0//EN
CALSCALE:GREGORIAN
METHOD:PUBLISH
X-WR-CALNAME:Kalamazoo First Presbyterian Church
X-ORIGINAL-URL:https://fpckzoo.org
X-WR-CALDESC:Events for Kalamazoo First Presbyterian Church
REFRESH-INTERVAL;VALUE=DURATION:PT1H
X-Robots-Tag:noindex
X-PUBLISHED-TTL:PT1H
BEGIN:VTIMEZONE
TZID:America/Detroit
BEGIN:DAYLIGHT
TZOFFSETFROM:-0500
TZOFFSETTO:-0400
TZNAME:EDT
DTSTART:20250309T070000
END:DAYLIGHT
BEGIN:STANDARD
TZOFFSETFROM:-0400
TZOFFSETTO:-0500
TZNAME:EST
DTSTART:20251102T060000
END:STANDARD
BEGIN:DAYLIGHT
TZOFFSETFROM:-0500
TZOFFSETTO:-0400
TZNAME:EDT
DTSTART:20260308T070000
END:DAYLIGHT
BEGIN:STANDARD
TZOFFSETFROM:-0400
TZOFFSETTO:-0500
TZNAME:EST
DTSTART:20261101T060000
END:STANDARD
BEGIN:DAYLIGHT
TZOFFSETFROM:-0500
TZOFFSETTO:-0400
TZNAME:EDT
DTSTART:20270314T070000
END:DAYLIGHT
BEGIN:STANDARD
TZOFFSETFROM:-0400
TZOFFSETTO:-0500
TZNAME:EST
DTSTART:20271107T060000
END:STANDARD
END:VTIMEZONE
BEGIN:VEVENT
DTSTART;TZID=America/Detroit:20260424T103000
DTEND;TZID=America/Detroit:20260424T113000
DTSTAMP:20260419T090123
CREATED:20260317T181720Z
LAST-MODIFIED:20260317T181720Z
UID:7706-1777026600-1777030200@fpckzoo.org
SUMMARY:Memorial - Mary Brooks 4/24/26 @ 10:30 AM
DESCRIPTION:Memorial Service – Mary H. Brooks\nPlease note the updated service time. \nThe memorial service forMary H. Brooks\,\npreviously announced for 11:00 am\,\nwill now begin at 10:30 am on Friday\, April 24\, in the Sanctuary. \nVisitation will take place from 9:30–10:30 am\, with a reception in the Gathering Place following the service.
URL:https://fpckzoo.org/event/memorial-mary-brooks-4-24-26-1030-am/
LOCATION:MI
ATTACH;FMTTYPE=image/png:https://fpckzoo.org/wp-content/uploads/2025/07/climbing-lily-of-the-valley-e1773771237980.png
END:VEVENT
END:VCALENDAR