BEGIN:VCALENDAR
VERSION:2.0
PRODID:-//Kalamazoo First Presbyterian Church - ECPv6.15.20//NONSGML v1.0//EN
CALSCALE:GREGORIAN
METHOD:PUBLISH
X-WR-CALNAME:Kalamazoo First Presbyterian Church
X-ORIGINAL-URL:https://fpckzoo.org
X-WR-CALDESC:Events for Kalamazoo First Presbyterian Church
REFRESH-INTERVAL;VALUE=DURATION:PT1H
X-Robots-Tag:noindex
X-PUBLISHED-TTL:PT1H
BEGIN:VTIMEZONE
TZID:America/Detroit
BEGIN:DAYLIGHT
TZOFFSETFROM:-0500
TZOFFSETTO:-0400
TZNAME:EDT
DTSTART:20250309T070000
END:DAYLIGHT
BEGIN:STANDARD
TZOFFSETFROM:-0400
TZOFFSETTO:-0500
TZNAME:EST
DTSTART:20251102T060000
END:STANDARD
BEGIN:DAYLIGHT
TZOFFSETFROM:-0500
TZOFFSETTO:-0400
TZNAME:EDT
DTSTART:20260308T070000
END:DAYLIGHT
BEGIN:STANDARD
TZOFFSETFROM:-0400
TZOFFSETTO:-0500
TZNAME:EST
DTSTART:20261101T060000
END:STANDARD
BEGIN:DAYLIGHT
TZOFFSETFROM:-0500
TZOFFSETTO:-0400
TZNAME:EDT
DTSTART:20270314T070000
END:DAYLIGHT
BEGIN:STANDARD
TZOFFSETFROM:-0400
TZOFFSETTO:-0500
TZNAME:EST
DTSTART:20271107T060000
END:STANDARD
END:VTIMEZONE
BEGIN:VEVENT
DTSTART;TZID=America/Detroit:20260412T100000
DTEND;TZID=America/Detroit:20260412T143000
DTSTAMP:20260419T102952
CREATED:20260401T160853Z
LAST-MODIFIED:20260401T160853Z
UID:7746-1775988000-1776004200@fpckzoo.org
SUMMARY:Welcome Rev. Jihyun Oh
DESCRIPTION:We are honored to welcome Rev. Oh through the support of the McShane Colloquium. \nThe Rev. Jihyun Oh is the Stated Clerk of the General Assembly and Executive Director of the Interim United Agency of the Presbyterian Church (U.S.A.). She was elected and installed at the 226th General Assembly in July 2024. Oh is only the second woman to serve in the denomination’s highest office\, and the first woman and the first Korean American elected to lead the PC(USA) in its more than 300-year history in the United States. \nSchedule of Events \n10 a.m. – Worship Service and Sermon: “Peace Be With You”\nFollowed by lunch in the Dining Room \n1:30 p.m. – Keynote Address: “Living as Resurrection People in a Death-Dealing World”\nFollowed by a reception in the Gathering Place \n 
URL:https://fpckzoo.org/event/welcome-rev-jihyun-oh/
LOCATION:Sanctuary\, 321 W South Street\, Kalamazoo\, MI\, 49007\, United States
ATTACH;FMTTYPE=image/jpeg:https://fpckzoo.org/wp-content/uploads/2026/04/rev-oh.jpg
END:VEVENT
END:VCALENDAR