BEGIN:VCALENDAR
VERSION:2.0
PRODID:-//Kalamazoo First Presbyterian Church - ECPv6.15.20//NONSGML v1.0//EN
CALSCALE:GREGORIAN
METHOD:PUBLISH
X-ORIGINAL-URL:https://fpckzoo.org
X-WR-CALDESC:Events for Kalamazoo First Presbyterian Church
REFRESH-INTERVAL;VALUE=DURATION:PT1H
X-Robots-Tag:noindex
X-PUBLISHED-TTL:PT1H
BEGIN:VTIMEZONE
TZID:America/Detroit
BEGIN:DAYLIGHT
TZOFFSETFROM:-0500
TZOFFSETTO:-0400
TZNAME:EDT
DTSTART:20240310T070000
END:DAYLIGHT
BEGIN:STANDARD
TZOFFSETFROM:-0400
TZOFFSETTO:-0500
TZNAME:EST
DTSTART:20241103T060000
END:STANDARD
BEGIN:DAYLIGHT
TZOFFSETFROM:-0500
TZOFFSETTO:-0400
TZNAME:EDT
DTSTART:20250309T070000
END:DAYLIGHT
BEGIN:STANDARD
TZOFFSETFROM:-0400
TZOFFSETTO:-0500
TZNAME:EST
DTSTART:20251102T060000
END:STANDARD
BEGIN:DAYLIGHT
TZOFFSETFROM:-0500
TZOFFSETTO:-0400
TZNAME:EDT
DTSTART:20260308T070000
END:DAYLIGHT
BEGIN:STANDARD
TZOFFSETFROM:-0400
TZOFFSETTO:-0500
TZNAME:EST
DTSTART:20261101T060000
END:STANDARD
END:VTIMEZONE
BEGIN:VEVENT
DTSTART;TZID=America/Detroit:20250814T110000
DTEND;TZID=America/Detroit:20250814T120000
DTSTAMP:20260420T222046
CREATED:20250624T172053Z
LAST-MODIFIED:20250807T194029Z
UID:6818-1755169200-1755172800@fpckzoo.org
SUMMARY:Diane Heckler Memorial
DESCRIPTION:In loving memory of Diane Heckler\, a memorial service will be held in the Sanctuary.
URL:https://fpckzoo.org/event/memorial/
LOCATION:MI
ATTACH;FMTTYPE=image/png:https://fpckzoo.org/wp-content/uploads/2025/04/Screenshot-2025-04-21-134738.png
ORGANIZER;CN="Chrissy Westbury":MAILTO:chrissyw@fpckzoo.org
END:VEVENT
END:VCALENDAR